BEGIN:VCALENDAR
VERSION:2.0
PRODID:-//HKAPI - ECPv5.3.0//NONSGML v1.0//EN
CALSCALE:GREGORIAN
METHOD:PUBLISH
X-WR-CALNAME:HKAPI
X-ORIGINAL-URL:https://hkapi.hk
X-WR-CALDESC:Events for HKAPI
BEGIN:VTIMEZONE
TZID:Asia/Hong_Kong
BEGIN:STANDARD
TZOFFSETFROM:+0800
TZOFFSETTO:+0800
TZNAME:HKT
DTSTART:20240101T000000
END:STANDARD
END:VTIMEZONE
BEGIN:VEVENT
DTSTART;TZID=Asia/Hong_Kong:20240430T153000
DTEND;TZID=Asia/Hong_Kong:20240430T163000
DTSTAMP:20260420T172049
CREATED:20240418T043304Z
LAST-MODIFIED:20240418T073730Z
UID:17890-1714491000-1714494600@hkapi.hk
SUMMARY:Regulatory Briefing Session on "1+" Mechanism and Enhancement Measures
DESCRIPTION:The enhancement measures of the “1+” mechanism will come into effect on 1 May 2024. \nTherefore\, the Regulatory Affairs Working Group jointly organized a briefing session with the Department of Pharmacology and Pharmacy\, University of Hong Kong\, to further enhance members’ understanding of the new pathway and relevant enhancement measures. \nMr Frank Chan\, Mr Lot Chan\, and Mr Raphael Yeung\, Director\, Chief Pharmacist and Senior Pharmacist of the Drug Office respectively\, will be present at the briefing session. We welcome anyone from member companies\, including colleagues from regional and global teams to join the briefing session. We hope this briefing session will be helpful to members’ regulatory strategy and market access planning for their products. \nEvent details\nDate: 30 April 2024 (Tue)\nTime: 3:30 pm – 4:30 pm (HKT)\nVenue: HKU Sassoon Road Campus\nFormat: Hybrid (we encourage the Hong Kong team to attend in person while regional and global colleagues join via Zoom)\nFee: HKD 250 (onsite) \nFor more details of the event and registration\, please contact Ms Catherine Chau of the HKAPI Office.
URL:https://hkapi.hk/event/ra-briefing-24-apr/
LOCATION:HKU Sassoon Road Campus\, Pok Fu Lam\, Hong Kong
CATEGORIES:Regulatory
ATTACH;FMTTYPE=image/png:https://hkapi.hk/wp-content/uploads/2024/04/RA-Briefing-2024-vSlider-2.png
ORGANIZER;CN="HKAPI":MAILTO:catherine.chau@hkapi.hk
END:VEVENT
BEGIN:VEVENT
DTSTART;TZID=Asia/Hong_Kong:20240502T190000
DTEND;TZID=Asia/Hong_Kong:20240502T210000
DTSTAMP:20260420T172049
CREATED:20240130T080523Z
LAST-MODIFIED:20240816T041444Z
UID:18442-1714676400-1714683600@hkapi.hk
SUMMARY:HKAPI Medical Representatives' Training Programme 2024
DESCRIPTION:We are thrilled to announce the commencement of the HKAPI Medical Representatives Training Programme 2024.\nThis programme has been providing comprehensive training to medical representatives since the 1980s and has already trained more than 2\,000 members. \nThe programme will cover a wide range of topics\, including pharmaceutical technology\, overview of the Hong Kong regulatory and healthcare system. Participants will have the opportunity to interact with experienced trainers and industry experts\, and receive a certificate of completion upon finishing the course. \nCourse Period : 11 April – October 2024\nFormat : Face-to-Face lecture\nCourse outline and detailed schedules \nIf you and your colleagues are interested to join the programme\, please contact your HR colleagues\, or contact the HKAPI Office.
URL:https://hkapi.hk/event/hkapi-medical-representatives-training-programme-2024/2024-05-02/
CATEGORIES:Med Rep Course
ATTACH;FMTTYPE=image/jpeg:https://hkapi.hk/wp-content/uploads/2022/01/Blue-and-Red-72x36-Landscape-Voter-Education-Campaign-Banner-min-scaled.jpg
END:VEVENT
BEGIN:VEVENT
DTSTART;TZID=Asia/Hong_Kong:20240509T190000
DTEND;TZID=Asia/Hong_Kong:20240509T210000
DTSTAMP:20260420T172049
CREATED:20240130T080523Z
LAST-MODIFIED:20240816T041444Z
UID:18443-1715281200-1715288400@hkapi.hk
SUMMARY:HKAPI Medical Representatives' Training Programme 2024
DESCRIPTION:We are thrilled to announce the commencement of the HKAPI Medical Representatives Training Programme 2024.\nThis programme has been providing comprehensive training to medical representatives since the 1980s and has already trained more than 2\,000 members. \nThe programme will cover a wide range of topics\, including pharmaceutical technology\, overview of the Hong Kong regulatory and healthcare system. Participants will have the opportunity to interact with experienced trainers and industry experts\, and receive a certificate of completion upon finishing the course. \nCourse Period : 11 April – October 2024\nFormat : Face-to-Face lecture\nCourse outline and detailed schedules \nIf you and your colleagues are interested to join the programme\, please contact your HR colleagues\, or contact the HKAPI Office.
URL:https://hkapi.hk/event/hkapi-medical-representatives-training-programme-2024/2024-05-09/
CATEGORIES:Med Rep Course
ATTACH;FMTTYPE=image/jpeg:https://hkapi.hk/wp-content/uploads/2022/01/Blue-and-Red-72x36-Landscape-Voter-Education-Campaign-Banner-min-scaled.jpg
END:VEVENT
BEGIN:VEVENT
DTSTART;TZID=Asia/Hong_Kong:20240516T190000
DTEND;TZID=Asia/Hong_Kong:20240516T210000
DTSTAMP:20260420T172049
CREATED:20240130T080523Z
LAST-MODIFIED:20240816T041444Z
UID:18444-1715886000-1715893200@hkapi.hk
SUMMARY:HKAPI Medical Representatives' Training Programme 2024
DESCRIPTION:We are thrilled to announce the commencement of the HKAPI Medical Representatives Training Programme 2024.\nThis programme has been providing comprehensive training to medical representatives since the 1980s and has already trained more than 2\,000 members. \nThe programme will cover a wide range of topics\, including pharmaceutical technology\, overview of the Hong Kong regulatory and healthcare system. Participants will have the opportunity to interact with experienced trainers and industry experts\, and receive a certificate of completion upon finishing the course. \nCourse Period : 11 April – October 2024\nFormat : Face-to-Face lecture\nCourse outline and detailed schedules \nIf you and your colleagues are interested to join the programme\, please contact your HR colleagues\, or contact the HKAPI Office.
URL:https://hkapi.hk/event/hkapi-medical-representatives-training-programme-2024/2024-05-16/
CATEGORIES:Med Rep Course
ATTACH;FMTTYPE=image/jpeg:https://hkapi.hk/wp-content/uploads/2022/01/Blue-and-Red-72x36-Landscape-Voter-Education-Campaign-Banner-min-scaled.jpg
END:VEVENT
BEGIN:VEVENT
DTSTART;TZID=Asia/Hong_Kong:20240520T100000
DTEND;TZID=Asia/Hong_Kong:20240520T120000
DTSTAMP:20260420T172049
CREATED:20240503T025855Z
LAST-MODIFIED:20240503T025947Z
UID:17958-1716199200-1716206400@hkapi.hk
SUMMARY:Seminar: Latest Plans for the Development of Community Pharmacy in the Primary Healthcare Blueprint
DESCRIPTION:Dear Members\, \nJoin us for a seminar on “Driving Change: Empowering Community Pharmacy in Hong Kong.”\nOrganized by The University of Hong Kong\, this event explores the latest developments in community pharmacy and aims to connect healthcare stakeholders to drive positive change and enhance the role of Community Pharmacy in Hong Kong. This is an excellent opportunity to gain valuable insights\, participate in discussions\, and discover strategies to maximize the impact of community pharmacy in healthcare. Engage with industry experts\, share your perspectives\, and help shape the future of community pharmacy in Hong Kong. \n\nTheme: Driving Change: Empowering Community Pharmacy in Hong Kong.\nDate & Time: 20 May 2024 (Mon) 10:00 to 12:00 (Registration starts at 09:30)\nVenue: The Hong Kong Jockey Club Building for Interdisciplinary Research\, 5 Sassoon Road\, Pokfulam.\nTarget Audience: HKAPI members\, Representatives of NGO community pharmacies \n\nKey Speakers:\nProfessor Ian WONG\, Department of Pharmacology and Pharmacy\, University of Hong Kong\nProf Eric WAN\, Assistant Professor\, Department of Pharmacology and Pharmacy\, University of Hong Kong\nMr. Stephen OR\, Co-Lead\, Primary Healthcare Task Force (22-24)\, HKAPI\nDr FAN Ning from Health In Action \nKey Topics: \n\nNavigating the Landscape: Latest Plans for the Development of Community Pharmacy in the Primary Healthcare Blueprint\nUnveiling the Jockey Club PHARM+ Community Medication Service Network Project: Objectives\, its Crucial Contribution to Community Pharmacy development in Hong Kong and Opportunities for HKAPI members\nPanel Discussion: Collaborative efforts to support Community Pharmacy development\nNetworking Session\n\nWe highly value your presence and contribution to driving positive change in the healthcare sector.
URL:https://hkapi.hk/event/seminar-latest-plans-for-the-development-of-community-pharmacy-in-the-primary-healthcare-blueprint/
LOCATION:HKU Sassoon Road Campus\, Pok Fu Lam\, Hong Kong
CATEGORIES:Primary Healthcare
ATTACH;FMTTYPE=image/png:https://hkapi.hk/wp-content/uploads/2024/04/Screenshot-2024-04-26-102554.png
END:VEVENT
BEGIN:VEVENT
DTSTART;TZID=Asia/Hong_Kong:20240523T190000
DTEND;TZID=Asia/Hong_Kong:20240523T210000
DTSTAMP:20260420T172049
CREATED:20240130T080523Z
LAST-MODIFIED:20240816T041445Z
UID:18445-1716490800-1716498000@hkapi.hk
SUMMARY:HKAPI Medical Representatives' Training Programme 2024
DESCRIPTION:We are thrilled to announce the commencement of the HKAPI Medical Representatives Training Programme 2024.\nThis programme has been providing comprehensive training to medical representatives since the 1980s and has already trained more than 2\,000 members. \nThe programme will cover a wide range of topics\, including pharmaceutical technology\, overview of the Hong Kong regulatory and healthcare system. Participants will have the opportunity to interact with experienced trainers and industry experts\, and receive a certificate of completion upon finishing the course. \nCourse Period : 11 April – October 2024\nFormat : Face-to-Face lecture\nCourse outline and detailed schedules \nIf you and your colleagues are interested to join the programme\, please contact your HR colleagues\, or contact the HKAPI Office.
URL:https://hkapi.hk/event/hkapi-medical-representatives-training-programme-2024/2024-05-23/
CATEGORIES:Med Rep Course
ATTACH;FMTTYPE=image/jpeg:https://hkapi.hk/wp-content/uploads/2022/01/Blue-and-Red-72x36-Landscape-Voter-Education-Campaign-Banner-min-scaled.jpg
END:VEVENT
BEGIN:VEVENT
DTSTART;TZID=Asia/Hong_Kong:20240530T190000
DTEND;TZID=Asia/Hong_Kong:20240530T210000
DTSTAMP:20260420T172049
CREATED:20240130T080523Z
LAST-MODIFIED:20240816T041445Z
UID:18446-1717095600-1717102800@hkapi.hk
SUMMARY:HKAPI Medical Representatives' Training Programme 2024
DESCRIPTION:We are thrilled to announce the commencement of the HKAPI Medical Representatives Training Programme 2024.\nThis programme has been providing comprehensive training to medical representatives since the 1980s and has already trained more than 2\,000 members. \nThe programme will cover a wide range of topics\, including pharmaceutical technology\, overview of the Hong Kong regulatory and healthcare system. Participants will have the opportunity to interact with experienced trainers and industry experts\, and receive a certificate of completion upon finishing the course. \nCourse Period : 11 April – October 2024\nFormat : Face-to-Face lecture\nCourse outline and detailed schedules \nIf you and your colleagues are interested to join the programme\, please contact your HR colleagues\, or contact the HKAPI Office.
URL:https://hkapi.hk/event/hkapi-medical-representatives-training-programme-2024/2024-05-30/
CATEGORIES:Med Rep Course
ATTACH;FMTTYPE=image/jpeg:https://hkapi.hk/wp-content/uploads/2022/01/Blue-and-Red-72x36-Landscape-Voter-Education-Campaign-Banner-min-scaled.jpg
END:VEVENT
END:VCALENDAR